BEGIN:VCALENDAR
VERSION:2.0
PRODID:-//Sportservice De Vallei - ECPv6.15.17.1//NONSGML v1.0//EN
CALSCALE:GREGORIAN
METHOD:PUBLISH
X-ORIGINAL-URL:https://sportservicedevallei.nl
X-WR-CALDESC:Evenementen voor Sportservice De Vallei
REFRESH-INTERVAL;VALUE=DURATION:PT1H
X-Robots-Tag:noindex
X-PUBLISHED-TTL:PT1H
BEGIN:VTIMEZONE
TZID:Europe/Amsterdam
BEGIN:DAYLIGHT
TZOFFSETFROM:+0100
TZOFFSETTO:+0200
TZNAME:CEST
DTSTART:20250330T010000
END:DAYLIGHT
BEGIN:STANDARD
TZOFFSETFROM:+0200
TZOFFSETTO:+0100
TZNAME:CET
DTSTART:20251026T010000
END:STANDARD
BEGIN:DAYLIGHT
TZOFFSETFROM:+0100
TZOFFSETTO:+0200
TZNAME:CEST
DTSTART:20260329T010000
END:DAYLIGHT
BEGIN:STANDARD
TZOFFSETFROM:+0200
TZOFFSETTO:+0100
TZNAME:CET
DTSTART:20261025T010000
END:STANDARD
BEGIN:DAYLIGHT
TZOFFSETFROM:+0100
TZOFFSETTO:+0200
TZNAME:CEST
DTSTART:20270328T010000
END:DAYLIGHT
BEGIN:STANDARD
TZOFFSETFROM:+0200
TZOFFSETTO:+0100
TZNAME:CET
DTSTART:20271031T010000
END:STANDARD
END:VTIMEZONE
BEGIN:VEVENT
DTSTART;TZID=Europe/Amsterdam:20260718T083000
DTEND;TZID=Europe/Amsterdam:20260718T140000
DTSTAMP:20260423T055741
CREATED:20250905T095146Z
LAST-MODIFIED:20250905T095146Z
UID:10005586-1784363400-1784383200@sportservicedevallei.nl
SUMMARY:Zwemles
DESCRIPTION:In zwembad De Peppel in Ede begeleiden we kinderen op een speelse en positieve manier richting het officiële Zwem-ABC. We oefenen niet alleen de vier basiszwemslagen (schoolslag\, borstcrawl\, rugslag en rugcrawl)\, maar ook vaardigheden als onder water zwemmen\, duiken naar de bodem en zelfstandig uit het water klimmen. Alles draait om vertrouwen\, veiligheid en plezier.
URL:https://sportservicedevallei.nl/evenement/zwemles-4/2026-07-18/
LOCATION:Zwembad De Peppel\, Peppelensteeg 17\, Ede\, 6715 CV\, Nederland
CATEGORIES:Gemeente Ede,Zwemles,Zwemmen
ATTACH;FMTTYPE=image/jpeg:https://sportservicedevallei.nl/wp-content/uploads/2025/04/53b53af5d7c0b3c7251292336e847476.avif
ORGANIZER;CN="Sportservice De Vallei":MAILTO:info@sportservicedevallei.nl
END:VEVENT
BEGIN:VEVENT
DTSTART;TZID=Europe/Amsterdam:20260718T130000
DTEND;TZID=Europe/Amsterdam:20260718T160000
DTSTAMP:20260423T055741
CREATED:20250922T100014Z
LAST-MODIFIED:20260106T084826Z
UID:10001253-1784379600-1784390400@sportservicedevallei.nl
SUMMARY:Recreatief zwemmen
DESCRIPTION:Spetterend van de glijbanen roetsjen\, bommetjes maken of heerlijk ontspannen in de bubbelstrook. Tijdens het recreatief zwemmen kun je alle kanten op. \nRecreatief zwemmen is in het recreatiebad.
URL:https://sportservicedevallei.nl/evenement/recreatief-zwemmen-2/2026-07-18/
LOCATION:Zwembad De Peppel\, Peppelensteeg 17\, Ede\, 6715 CV\, Nederland
CATEGORIES:4kids,Gemeente Ede,Jongeren,Kinderen,Peuters en kleuters,Recreatief zwemmen,Senioren,Volwassenen,Zwemmen
ATTACH;FMTTYPE=image/jpeg:https://sportservicedevallei.nl/wp-content/uploads/2025/06/tuberide01.avif
ORGANIZER;CN="Sportservice De Vallei":MAILTO:info@sportservicedevallei.nl
END:VEVENT
BEGIN:VEVENT
DTSTART;TZID=Europe/Amsterdam:20260719T100000
DTEND;TZID=Europe/Amsterdam:20260719T113000
DTSTAMP:20260423T055741
CREATED:20250728T113803Z
LAST-MODIFIED:20260309T131232Z
UID:10000230-1784455200-1784460600@sportservicedevallei.nl
SUMMARY:Banenzwemmen zondag
DESCRIPTION:Zin in een sportieve start van je dag of juist een moment voor jezelf? Bij zwembad De Peppel kun je bijna elke dag banen trekken in het wedstrijdbad (behalve op zaterdag). Of je nu rustig je rondjes zwemt of traint op snelheid en techniek — jij bepaalt het tempo. \nSoms wordt een deel van het bad gebruikt voor andere activiteiten.
URL:https://sportservicedevallei.nl/evenement/banenzwemmen-zondag/2026-07-19/
LOCATION:Zwembad De Peppel\, Peppelensteeg 17\, Ede\, 6715 CV\, Nederland
CATEGORIES:Banenzwemmen,Gemeente Ede,Jongeren,Senioren,Volwassenen,Zwemmen
ATTACH;FMTTYPE=image/jpeg:https://sportservicedevallei.nl/wp-content/uploads/2026/03/ZwermbadDePeppelAquasporten-13-Swimfit-scaled.avif
ORGANIZER;CN="Sportservice De Vallei":MAILTO:info@sportservicedevallei.nl
END:VEVENT
BEGIN:VEVENT
DTSTART;TZID=Europe/Amsterdam:20260719T100000
DTEND;TZID=Europe/Amsterdam:20260719T160000
DTSTAMP:20260423T055741
CREATED:20250819T142308Z
LAST-MODIFIED:20260309T105521Z
UID:10001161-1784455200-1784476800@sportservicedevallei.nl
SUMMARY:Recreatief zwemmen
DESCRIPTION:Spetterend van de glijbanen roetsjen\, bommetjes maken of heerlijk ontspannen in de bubbelstrook. Tijdens het recreatief zwemmen kun je alle kanten op. \nRecreatief zwemmen is in het recreatiebad en vanaf 12.00 uur ook in het wedstrijdbad.
URL:https://sportservicedevallei.nl/evenement/recreatief-zwemmen/2026-07-19/
LOCATION:Zwembad De Peppel\, Peppelensteeg 17\, Ede\, 6715 CV\, Nederland
CATEGORIES:4kids,Gemeente Ede,Jongeren,Kinderen,Peuters en kleuters,Recreatief zwemmen,Senioren,Volwassenen,Zwemmen
ATTACH;FMTTYPE=image/jpeg:https://sportservicedevallei.nl/wp-content/uploads/2025/06/tuberide01.avif
ORGANIZER;CN="Sportservice De Vallei":MAILTO:info@sportservicedevallei.nl
END:VEVENT
END:VCALENDAR