BEGIN:VCALENDAR
VERSION:2.0
PRODID:-//Sportservice De Vallei - ECPv6.15.17.1//NONSGML v1.0//EN
CALSCALE:GREGORIAN
METHOD:PUBLISH
X-WR-CALNAME:Sportservice De Vallei
X-ORIGINAL-URL:https://sportservicedevallei.nl
X-WR-CALDESC:Evenementen voor Sportservice De Vallei
REFRESH-INTERVAL;VALUE=DURATION:PT1H
X-Robots-Tag:noindex
X-PUBLISHED-TTL:PT1H
BEGIN:VTIMEZONE
TZID:Europe/Amsterdam
BEGIN:DAYLIGHT
TZOFFSETFROM:+0100
TZOFFSETTO:+0200
TZNAME:CEST
DTSTART:20250330T010000
END:DAYLIGHT
BEGIN:STANDARD
TZOFFSETFROM:+0200
TZOFFSETTO:+0100
TZNAME:CET
DTSTART:20251026T010000
END:STANDARD
BEGIN:DAYLIGHT
TZOFFSETFROM:+0100
TZOFFSETTO:+0200
TZNAME:CEST
DTSTART:20260329T010000
END:DAYLIGHT
BEGIN:STANDARD
TZOFFSETFROM:+0200
TZOFFSETTO:+0100
TZNAME:CET
DTSTART:20261025T010000
END:STANDARD
BEGIN:DAYLIGHT
TZOFFSETFROM:+0100
TZOFFSETTO:+0200
TZNAME:CEST
DTSTART:20270328T010000
END:DAYLIGHT
BEGIN:STANDARD
TZOFFSETFROM:+0200
TZOFFSETTO:+0100
TZNAME:CET
DTSTART:20271031T010000
END:STANDARD
END:VTIMEZONE
BEGIN:VEVENT
DTSTART;TZID=Europe/Amsterdam:20260422T200000
DTEND;TZID=Europe/Amsterdam:20260422T210000
DTSTAMP:20260422T102557
CREATED:20260203T070053Z
LAST-MODIFIED:20260309T131059Z
UID:10001587-1776888000-1776891600@sportservicedevallei.nl
SUMMARY:Banenzwemmen avond
DESCRIPTION:Zin in een sportief einde van je dag of juist een moment voor jezelf? Bij zwembad De Peppel kun je bijna elke dag banen trekken in het wedstrijdbad (behalve op zaterdag). Of je nu rustig je rondjes zwemt of traint op snelheid en techniek — jij bepaalt het tempo. \nSoms wordt een deel van het bad gebruikt voor andere activiteiten.
URL:https://sportservicedevallei.nl/evenement/banenzwemmen-avond/2026-04-22/
LOCATION:Zwembad De Peppel\, Peppelensteeg 17\, Ede\, 6715 CV\, Nederland
CATEGORIES:Banenzwemmen,Gemeente Ede,Jongeren,Senioren,Volwassenen,Zwemmen
ATTACH;FMTTYPE=image/jpeg:https://sportservicedevallei.nl/wp-content/uploads/2026/03/ZwermbadDePeppelAquasporten-13-Swimfit-scaled.avif
ORGANIZER;CN="Sportservice De Vallei":MAILTO:info@sportservicedevallei.nl
END:VEVENT
BEGIN:VEVENT
DTSTART;TZID=Europe/Amsterdam:20260423T193000
DTEND;TZID=Europe/Amsterdam:20260423T203000
DTSTAMP:20260422T102557
CREATED:20250826T132256Z
LAST-MODIFIED:20260309T131139Z
UID:10001628-1776972600-1776976200@sportservicedevallei.nl
SUMMARY:Banenzwemmen avond
DESCRIPTION:Zin in een sportief einde van je dag of juist een moment voor jezelf? Bij zwembad De Peppel kun je bijna elke dag banen trekken in het wedstrijdbad (behalve op zaterdag). Of je nu rustig je rondjes zwemt of traint op snelheid en techniek — jij bepaalt het tempo. \nSoms wordt een deel van het bad gebruikt voor andere activiteiten.
URL:https://sportservicedevallei.nl/evenement/banenzwemmen-avond-2/2026-04-23/
LOCATION:Zwembad De Peppel\, Peppelensteeg 17\, Ede\, 6715 CV\, Nederland
CATEGORIES:Banenzwemmen,Gemeente Ede,Jongeren,Senioren,Volwassenen,Zwemmen
ATTACH;FMTTYPE=image/jpeg:https://sportservicedevallei.nl/wp-content/uploads/2026/03/ZwermbadDePeppelAquasporten-13-Swimfit-scaled.avif
ORGANIZER;CN="Sportservice De Vallei":MAILTO:info@sportservicedevallei.nl
END:VEVENT
BEGIN:VEVENT
DTSTART;TZID=Europe/Amsterdam:20260429T200000
DTEND;TZID=Europe/Amsterdam:20260429T210000
DTSTAMP:20260422T102557
CREATED:20260203T070053Z
LAST-MODIFIED:20260309T131059Z
UID:10010933-1777492800-1777496400@sportservicedevallei.nl
SUMMARY:Banenzwemmen avond
DESCRIPTION:Zin in een sportief einde van je dag of juist een moment voor jezelf? Bij zwembad De Peppel kun je bijna elke dag banen trekken in het wedstrijdbad (behalve op zaterdag). Of je nu rustig je rondjes zwemt of traint op snelheid en techniek — jij bepaalt het tempo. \nSoms wordt een deel van het bad gebruikt voor andere activiteiten.
URL:https://sportservicedevallei.nl/evenement/banenzwemmen-avond/2026-04-29/
LOCATION:Zwembad De Peppel\, Peppelensteeg 17\, Ede\, 6715 CV\, Nederland
CATEGORIES:Banenzwemmen,Gemeente Ede,Jongeren,Senioren,Volwassenen,Zwemmen
ATTACH;FMTTYPE=image/jpeg:https://sportservicedevallei.nl/wp-content/uploads/2026/03/ZwermbadDePeppelAquasporten-13-Swimfit-scaled.avif
ORGANIZER;CN="Sportservice De Vallei":MAILTO:info@sportservicedevallei.nl
END:VEVENT
BEGIN:VEVENT
DTSTART;TZID=Europe/Amsterdam:20260506T200000
DTEND;TZID=Europe/Amsterdam:20260506T210000
DTSTAMP:20260422T102557
CREATED:20260203T070053Z
LAST-MODIFIED:20260309T131059Z
UID:10001588-1778097600-1778101200@sportservicedevallei.nl
SUMMARY:Banenzwemmen avond
DESCRIPTION:Zin in een sportief einde van je dag of juist een moment voor jezelf? Bij zwembad De Peppel kun je bijna elke dag banen trekken in het wedstrijdbad (behalve op zaterdag). Of je nu rustig je rondjes zwemt of traint op snelheid en techniek — jij bepaalt het tempo. \nSoms wordt een deel van het bad gebruikt voor andere activiteiten.
URL:https://sportservicedevallei.nl/evenement/banenzwemmen-avond/2026-05-06/
LOCATION:Zwembad De Peppel\, Peppelensteeg 17\, Ede\, 6715 CV\, Nederland
CATEGORIES:Banenzwemmen,Gemeente Ede,Jongeren,Senioren,Volwassenen,Zwemmen
ATTACH;FMTTYPE=image/jpeg:https://sportservicedevallei.nl/wp-content/uploads/2026/03/ZwermbadDePeppelAquasporten-13-Swimfit-scaled.avif
ORGANIZER;CN="Sportservice De Vallei":MAILTO:info@sportservicedevallei.nl
END:VEVENT
BEGIN:VEVENT
DTSTART;TZID=Europe/Amsterdam:20260507T193000
DTEND;TZID=Europe/Amsterdam:20260507T203000
DTSTAMP:20260422T102557
CREATED:20250826T132256Z
LAST-MODIFIED:20260309T131139Z
UID:10001629-1778182200-1778185800@sportservicedevallei.nl
SUMMARY:Banenzwemmen avond
DESCRIPTION:Zin in een sportief einde van je dag of juist een moment voor jezelf? Bij zwembad De Peppel kun je bijna elke dag banen trekken in het wedstrijdbad (behalve op zaterdag). Of je nu rustig je rondjes zwemt of traint op snelheid en techniek — jij bepaalt het tempo. \nSoms wordt een deel van het bad gebruikt voor andere activiteiten.
URL:https://sportservicedevallei.nl/evenement/banenzwemmen-avond-2/2026-05-07/
LOCATION:Zwembad De Peppel\, Peppelensteeg 17\, Ede\, 6715 CV\, Nederland
CATEGORIES:Banenzwemmen,Gemeente Ede,Jongeren,Senioren,Volwassenen,Zwemmen
ATTACH;FMTTYPE=image/jpeg:https://sportservicedevallei.nl/wp-content/uploads/2026/03/ZwermbadDePeppelAquasporten-13-Swimfit-scaled.avif
ORGANIZER;CN="Sportservice De Vallei":MAILTO:info@sportservicedevallei.nl
END:VEVENT
BEGIN:VEVENT
DTSTART;TZID=Europe/Amsterdam:20260513T200000
DTEND;TZID=Europe/Amsterdam:20260513T210000
DTSTAMP:20260422T102557
CREATED:20260203T070053Z
LAST-MODIFIED:20260309T131059Z
UID:10001589-1778702400-1778706000@sportservicedevallei.nl
SUMMARY:Banenzwemmen avond
DESCRIPTION:Zin in een sportief einde van je dag of juist een moment voor jezelf? Bij zwembad De Peppel kun je bijna elke dag banen trekken in het wedstrijdbad (behalve op zaterdag). Of je nu rustig je rondjes zwemt of traint op snelheid en techniek — jij bepaalt het tempo. \nSoms wordt een deel van het bad gebruikt voor andere activiteiten.
URL:https://sportservicedevallei.nl/evenement/banenzwemmen-avond/2026-05-13/
LOCATION:Zwembad De Peppel\, Peppelensteeg 17\, Ede\, 6715 CV\, Nederland
CATEGORIES:Banenzwemmen,Gemeente Ede,Jongeren,Senioren,Volwassenen,Zwemmen
ATTACH;FMTTYPE=image/jpeg:https://sportservicedevallei.nl/wp-content/uploads/2026/03/ZwermbadDePeppelAquasporten-13-Swimfit-scaled.avif
ORGANIZER;CN="Sportservice De Vallei":MAILTO:info@sportservicedevallei.nl
END:VEVENT
BEGIN:VEVENT
DTSTART;TZID=Europe/Amsterdam:20260521T193000
DTEND;TZID=Europe/Amsterdam:20260521T203000
DTSTAMP:20260422T102557
CREATED:20250826T132256Z
LAST-MODIFIED:20260309T131139Z
UID:10001631-1779391800-1779395400@sportservicedevallei.nl
SUMMARY:Banenzwemmen avond
DESCRIPTION:Zin in een sportief einde van je dag of juist een moment voor jezelf? Bij zwembad De Peppel kun je bijna elke dag banen trekken in het wedstrijdbad (behalve op zaterdag). Of je nu rustig je rondjes zwemt of traint op snelheid en techniek — jij bepaalt het tempo. \nSoms wordt een deel van het bad gebruikt voor andere activiteiten.
URL:https://sportservicedevallei.nl/evenement/banenzwemmen-avond-2/2026-05-21/
LOCATION:Zwembad De Peppel\, Peppelensteeg 17\, Ede\, 6715 CV\, Nederland
CATEGORIES:Banenzwemmen,Gemeente Ede,Jongeren,Senioren,Volwassenen,Zwemmen
ATTACH;FMTTYPE=image/jpeg:https://sportservicedevallei.nl/wp-content/uploads/2026/03/ZwermbadDePeppelAquasporten-13-Swimfit-scaled.avif
ORGANIZER;CN="Sportservice De Vallei":MAILTO:info@sportservicedevallei.nl
END:VEVENT
BEGIN:VEVENT
DTSTART;TZID=Europe/Amsterdam:20260527T200000
DTEND;TZID=Europe/Amsterdam:20260527T210000
DTSTAMP:20260422T102557
CREATED:20260203T070053Z
LAST-MODIFIED:20260309T131059Z
UID:10001591-1779912000-1779915600@sportservicedevallei.nl
SUMMARY:Banenzwemmen avond
DESCRIPTION:Zin in een sportief einde van je dag of juist een moment voor jezelf? Bij zwembad De Peppel kun je bijna elke dag banen trekken in het wedstrijdbad (behalve op zaterdag). Of je nu rustig je rondjes zwemt of traint op snelheid en techniek — jij bepaalt het tempo. \nSoms wordt een deel van het bad gebruikt voor andere activiteiten.
URL:https://sportservicedevallei.nl/evenement/banenzwemmen-avond/2026-05-27/
LOCATION:Zwembad De Peppel\, Peppelensteeg 17\, Ede\, 6715 CV\, Nederland
CATEGORIES:Banenzwemmen,Gemeente Ede,Jongeren,Senioren,Volwassenen,Zwemmen
ATTACH;FMTTYPE=image/jpeg:https://sportservicedevallei.nl/wp-content/uploads/2026/03/ZwermbadDePeppelAquasporten-13-Swimfit-scaled.avif
ORGANIZER;CN="Sportservice De Vallei":MAILTO:info@sportservicedevallei.nl
END:VEVENT
BEGIN:VEVENT
DTSTART;TZID=Europe/Amsterdam:20260528T193000
DTEND;TZID=Europe/Amsterdam:20260528T203000
DTSTAMP:20260422T102557
CREATED:20250826T132256Z
LAST-MODIFIED:20260309T131139Z
UID:10001632-1779996600-1780000200@sportservicedevallei.nl
SUMMARY:Banenzwemmen avond
DESCRIPTION:Zin in een sportief einde van je dag of juist een moment voor jezelf? Bij zwembad De Peppel kun je bijna elke dag banen trekken in het wedstrijdbad (behalve op zaterdag). Of je nu rustig je rondjes zwemt of traint op snelheid en techniek — jij bepaalt het tempo. \nSoms wordt een deel van het bad gebruikt voor andere activiteiten.
URL:https://sportservicedevallei.nl/evenement/banenzwemmen-avond-2/2026-05-28/
LOCATION:Zwembad De Peppel\, Peppelensteeg 17\, Ede\, 6715 CV\, Nederland
CATEGORIES:Banenzwemmen,Gemeente Ede,Jongeren,Senioren,Volwassenen,Zwemmen
ATTACH;FMTTYPE=image/jpeg:https://sportservicedevallei.nl/wp-content/uploads/2026/03/ZwermbadDePeppelAquasporten-13-Swimfit-scaled.avif
ORGANIZER;CN="Sportservice De Vallei":MAILTO:info@sportservicedevallei.nl
END:VEVENT
BEGIN:VEVENT
DTSTART;TZID=Europe/Amsterdam:20260603T200000
DTEND;TZID=Europe/Amsterdam:20260603T210000
DTSTAMP:20260422T102557
CREATED:20260203T070053Z
LAST-MODIFIED:20260309T131059Z
UID:10001592-1780516800-1780520400@sportservicedevallei.nl
SUMMARY:Banenzwemmen avond
DESCRIPTION:Zin in een sportief einde van je dag of juist een moment voor jezelf? Bij zwembad De Peppel kun je bijna elke dag banen trekken in het wedstrijdbad (behalve op zaterdag). Of je nu rustig je rondjes zwemt of traint op snelheid en techniek — jij bepaalt het tempo. \nSoms wordt een deel van het bad gebruikt voor andere activiteiten.
URL:https://sportservicedevallei.nl/evenement/banenzwemmen-avond/2026-06-03/
LOCATION:Zwembad De Peppel\, Peppelensteeg 17\, Ede\, 6715 CV\, Nederland
CATEGORIES:Banenzwemmen,Gemeente Ede,Jongeren,Senioren,Volwassenen,Zwemmen
ATTACH;FMTTYPE=image/jpeg:https://sportservicedevallei.nl/wp-content/uploads/2026/03/ZwermbadDePeppelAquasporten-13-Swimfit-scaled.avif
ORGANIZER;CN="Sportservice De Vallei":MAILTO:info@sportservicedevallei.nl
END:VEVENT
BEGIN:VEVENT
DTSTART;TZID=Europe/Amsterdam:20260604T193000
DTEND;TZID=Europe/Amsterdam:20260604T203000
DTSTAMP:20260422T102557
CREATED:20250826T132256Z
LAST-MODIFIED:20260309T131139Z
UID:10001633-1780601400-1780605000@sportservicedevallei.nl
SUMMARY:Banenzwemmen avond
DESCRIPTION:Zin in een sportief einde van je dag of juist een moment voor jezelf? Bij zwembad De Peppel kun je bijna elke dag banen trekken in het wedstrijdbad (behalve op zaterdag). Of je nu rustig je rondjes zwemt of traint op snelheid en techniek — jij bepaalt het tempo. \nSoms wordt een deel van het bad gebruikt voor andere activiteiten.
URL:https://sportservicedevallei.nl/evenement/banenzwemmen-avond-2/2026-06-04/
LOCATION:Zwembad De Peppel\, Peppelensteeg 17\, Ede\, 6715 CV\, Nederland
CATEGORIES:Banenzwemmen,Gemeente Ede,Jongeren,Senioren,Volwassenen,Zwemmen
ATTACH;FMTTYPE=image/jpeg:https://sportservicedevallei.nl/wp-content/uploads/2026/03/ZwermbadDePeppelAquasporten-13-Swimfit-scaled.avif
ORGANIZER;CN="Sportservice De Vallei":MAILTO:info@sportservicedevallei.nl
END:VEVENT
BEGIN:VEVENT
DTSTART;TZID=Europe/Amsterdam:20260610T200000
DTEND;TZID=Europe/Amsterdam:20260610T210000
DTSTAMP:20260422T102557
CREATED:20260203T070053Z
LAST-MODIFIED:20260309T131059Z
UID:10001593-1781121600-1781125200@sportservicedevallei.nl
SUMMARY:Banenzwemmen avond
DESCRIPTION:Zin in een sportief einde van je dag of juist een moment voor jezelf? Bij zwembad De Peppel kun je bijna elke dag banen trekken in het wedstrijdbad (behalve op zaterdag). Of je nu rustig je rondjes zwemt of traint op snelheid en techniek — jij bepaalt het tempo. \nSoms wordt een deel van het bad gebruikt voor andere activiteiten.
URL:https://sportservicedevallei.nl/evenement/banenzwemmen-avond/2026-06-10/
LOCATION:Zwembad De Peppel\, Peppelensteeg 17\, Ede\, 6715 CV\, Nederland
CATEGORIES:Banenzwemmen,Gemeente Ede,Jongeren,Senioren,Volwassenen,Zwemmen
ATTACH;FMTTYPE=image/jpeg:https://sportservicedevallei.nl/wp-content/uploads/2026/03/ZwermbadDePeppelAquasporten-13-Swimfit-scaled.avif
ORGANIZER;CN="Sportservice De Vallei":MAILTO:info@sportservicedevallei.nl
END:VEVENT
BEGIN:VEVENT
DTSTART;TZID=Europe/Amsterdam:20260611T193000
DTEND;TZID=Europe/Amsterdam:20260611T203000
DTSTAMP:20260422T102557
CREATED:20250826T132256Z
LAST-MODIFIED:20260309T131139Z
UID:10001634-1781206200-1781209800@sportservicedevallei.nl
SUMMARY:Banenzwemmen avond
DESCRIPTION:Zin in een sportief einde van je dag of juist een moment voor jezelf? Bij zwembad De Peppel kun je bijna elke dag banen trekken in het wedstrijdbad (behalve op zaterdag). Of je nu rustig je rondjes zwemt of traint op snelheid en techniek — jij bepaalt het tempo. \nSoms wordt een deel van het bad gebruikt voor andere activiteiten.
URL:https://sportservicedevallei.nl/evenement/banenzwemmen-avond-2/2026-06-11/
LOCATION:Zwembad De Peppel\, Peppelensteeg 17\, Ede\, 6715 CV\, Nederland
CATEGORIES:Banenzwemmen,Gemeente Ede,Jongeren,Senioren,Volwassenen,Zwemmen
ATTACH;FMTTYPE=image/jpeg:https://sportservicedevallei.nl/wp-content/uploads/2026/03/ZwermbadDePeppelAquasporten-13-Swimfit-scaled.avif
ORGANIZER;CN="Sportservice De Vallei":MAILTO:info@sportservicedevallei.nl
END:VEVENT
BEGIN:VEVENT
DTSTART;TZID=Europe/Amsterdam:20260617T200000
DTEND;TZID=Europe/Amsterdam:20260617T210000
DTSTAMP:20260422T102557
CREATED:20260203T070053Z
LAST-MODIFIED:20260309T131059Z
UID:10001594-1781726400-1781730000@sportservicedevallei.nl
SUMMARY:Banenzwemmen avond
DESCRIPTION:Zin in een sportief einde van je dag of juist een moment voor jezelf? Bij zwembad De Peppel kun je bijna elke dag banen trekken in het wedstrijdbad (behalve op zaterdag). Of je nu rustig je rondjes zwemt of traint op snelheid en techniek — jij bepaalt het tempo. \nSoms wordt een deel van het bad gebruikt voor andere activiteiten.
URL:https://sportservicedevallei.nl/evenement/banenzwemmen-avond/2026-06-17/
LOCATION:Zwembad De Peppel\, Peppelensteeg 17\, Ede\, 6715 CV\, Nederland
CATEGORIES:Banenzwemmen,Gemeente Ede,Jongeren,Senioren,Volwassenen,Zwemmen
ATTACH;FMTTYPE=image/jpeg:https://sportservicedevallei.nl/wp-content/uploads/2026/03/ZwermbadDePeppelAquasporten-13-Swimfit-scaled.avif
ORGANIZER;CN="Sportservice De Vallei":MAILTO:info@sportservicedevallei.nl
END:VEVENT
BEGIN:VEVENT
DTSTART;TZID=Europe/Amsterdam:20260618T193000
DTEND;TZID=Europe/Amsterdam:20260618T203000
DTSTAMP:20260422T102557
CREATED:20250826T132256Z
LAST-MODIFIED:20260309T131139Z
UID:10001635-1781811000-1781814600@sportservicedevallei.nl
SUMMARY:Banenzwemmen avond
DESCRIPTION:Zin in een sportief einde van je dag of juist een moment voor jezelf? Bij zwembad De Peppel kun je bijna elke dag banen trekken in het wedstrijdbad (behalve op zaterdag). Of je nu rustig je rondjes zwemt of traint op snelheid en techniek — jij bepaalt het tempo. \nSoms wordt een deel van het bad gebruikt voor andere activiteiten.
URL:https://sportservicedevallei.nl/evenement/banenzwemmen-avond-2/2026-06-18/
LOCATION:Zwembad De Peppel\, Peppelensteeg 17\, Ede\, 6715 CV\, Nederland
CATEGORIES:Banenzwemmen,Gemeente Ede,Jongeren,Senioren,Volwassenen,Zwemmen
ATTACH;FMTTYPE=image/jpeg:https://sportservicedevallei.nl/wp-content/uploads/2026/03/ZwermbadDePeppelAquasporten-13-Swimfit-scaled.avif
ORGANIZER;CN="Sportservice De Vallei":MAILTO:info@sportservicedevallei.nl
END:VEVENT
BEGIN:VEVENT
DTSTART;TZID=Europe/Amsterdam:20260624T200000
DTEND;TZID=Europe/Amsterdam:20260624T210000
DTSTAMP:20260422T102557
CREATED:20260203T070053Z
LAST-MODIFIED:20260309T131059Z
UID:10001595-1782331200-1782334800@sportservicedevallei.nl
SUMMARY:Banenzwemmen avond
DESCRIPTION:Zin in een sportief einde van je dag of juist een moment voor jezelf? Bij zwembad De Peppel kun je bijna elke dag banen trekken in het wedstrijdbad (behalve op zaterdag). Of je nu rustig je rondjes zwemt of traint op snelheid en techniek — jij bepaalt het tempo. \nSoms wordt een deel van het bad gebruikt voor andere activiteiten.
URL:https://sportservicedevallei.nl/evenement/banenzwemmen-avond/2026-06-24/
LOCATION:Zwembad De Peppel\, Peppelensteeg 17\, Ede\, 6715 CV\, Nederland
CATEGORIES:Banenzwemmen,Gemeente Ede,Jongeren,Senioren,Volwassenen,Zwemmen
ATTACH;FMTTYPE=image/jpeg:https://sportservicedevallei.nl/wp-content/uploads/2026/03/ZwermbadDePeppelAquasporten-13-Swimfit-scaled.avif
ORGANIZER;CN="Sportservice De Vallei":MAILTO:info@sportservicedevallei.nl
END:VEVENT
BEGIN:VEVENT
DTSTART;TZID=Europe/Amsterdam:20260625T193000
DTEND;TZID=Europe/Amsterdam:20260625T203000
DTSTAMP:20260422T102557
CREATED:20250826T132256Z
LAST-MODIFIED:20260309T131139Z
UID:10001636-1782415800-1782419400@sportservicedevallei.nl
SUMMARY:Banenzwemmen avond
DESCRIPTION:Zin in een sportief einde van je dag of juist een moment voor jezelf? Bij zwembad De Peppel kun je bijna elke dag banen trekken in het wedstrijdbad (behalve op zaterdag). Of je nu rustig je rondjes zwemt of traint op snelheid en techniek — jij bepaalt het tempo. \nSoms wordt een deel van het bad gebruikt voor andere activiteiten.
URL:https://sportservicedevallei.nl/evenement/banenzwemmen-avond-2/2026-06-25/
LOCATION:Zwembad De Peppel\, Peppelensteeg 17\, Ede\, 6715 CV\, Nederland
CATEGORIES:Banenzwemmen,Gemeente Ede,Jongeren,Senioren,Volwassenen,Zwemmen
ATTACH;FMTTYPE=image/jpeg:https://sportservicedevallei.nl/wp-content/uploads/2026/03/ZwermbadDePeppelAquasporten-13-Swimfit-scaled.avif
ORGANIZER;CN="Sportservice De Vallei":MAILTO:info@sportservicedevallei.nl
END:VEVENT
BEGIN:VEVENT
DTSTART;TZID=Europe/Amsterdam:20260701T200000
DTEND;TZID=Europe/Amsterdam:20260701T210000
DTSTAMP:20260422T102557
CREATED:20260203T070053Z
LAST-MODIFIED:20260309T131059Z
UID:10001596-1782936000-1782939600@sportservicedevallei.nl
SUMMARY:Banenzwemmen avond
DESCRIPTION:Zin in een sportief einde van je dag of juist een moment voor jezelf? Bij zwembad De Peppel kun je bijna elke dag banen trekken in het wedstrijdbad (behalve op zaterdag). Of je nu rustig je rondjes zwemt of traint op snelheid en techniek — jij bepaalt het tempo. \nSoms wordt een deel van het bad gebruikt voor andere activiteiten.
URL:https://sportservicedevallei.nl/evenement/banenzwemmen-avond/2026-07-01/
LOCATION:Zwembad De Peppel\, Peppelensteeg 17\, Ede\, 6715 CV\, Nederland
CATEGORIES:Banenzwemmen,Gemeente Ede,Jongeren,Senioren,Volwassenen,Zwemmen
ATTACH;FMTTYPE=image/jpeg:https://sportservicedevallei.nl/wp-content/uploads/2026/03/ZwermbadDePeppelAquasporten-13-Swimfit-scaled.avif
ORGANIZER;CN="Sportservice De Vallei":MAILTO:info@sportservicedevallei.nl
END:VEVENT
BEGIN:VEVENT
DTSTART;TZID=Europe/Amsterdam:20260702T193000
DTEND;TZID=Europe/Amsterdam:20260702T203000
DTSTAMP:20260422T102557
CREATED:20250826T132256Z
LAST-MODIFIED:20260309T131139Z
UID:10001637-1783020600-1783024200@sportservicedevallei.nl
SUMMARY:Banenzwemmen avond
DESCRIPTION:Zin in een sportief einde van je dag of juist een moment voor jezelf? Bij zwembad De Peppel kun je bijna elke dag banen trekken in het wedstrijdbad (behalve op zaterdag). Of je nu rustig je rondjes zwemt of traint op snelheid en techniek — jij bepaalt het tempo. \nSoms wordt een deel van het bad gebruikt voor andere activiteiten.
URL:https://sportservicedevallei.nl/evenement/banenzwemmen-avond-2/2026-07-02/
LOCATION:Zwembad De Peppel\, Peppelensteeg 17\, Ede\, 6715 CV\, Nederland
CATEGORIES:Banenzwemmen,Gemeente Ede,Jongeren,Senioren,Volwassenen,Zwemmen
ATTACH;FMTTYPE=image/jpeg:https://sportservicedevallei.nl/wp-content/uploads/2026/03/ZwermbadDePeppelAquasporten-13-Swimfit-scaled.avif
ORGANIZER;CN="Sportservice De Vallei":MAILTO:info@sportservicedevallei.nl
END:VEVENT
BEGIN:VEVENT
DTSTART;TZID=Europe/Amsterdam:20260708T200000
DTEND;TZID=Europe/Amsterdam:20260708T210000
DTSTAMP:20260422T102557
CREATED:20260203T070053Z
LAST-MODIFIED:20260309T131059Z
UID:10001597-1783540800-1783544400@sportservicedevallei.nl
SUMMARY:Banenzwemmen avond
DESCRIPTION:Zin in een sportief einde van je dag of juist een moment voor jezelf? Bij zwembad De Peppel kun je bijna elke dag banen trekken in het wedstrijdbad (behalve op zaterdag). Of je nu rustig je rondjes zwemt of traint op snelheid en techniek — jij bepaalt het tempo. \nSoms wordt een deel van het bad gebruikt voor andere activiteiten.
URL:https://sportservicedevallei.nl/evenement/banenzwemmen-avond/2026-07-08/
LOCATION:Zwembad De Peppel\, Peppelensteeg 17\, Ede\, 6715 CV\, Nederland
CATEGORIES:Banenzwemmen,Gemeente Ede,Jongeren,Senioren,Volwassenen,Zwemmen
ATTACH;FMTTYPE=image/jpeg:https://sportservicedevallei.nl/wp-content/uploads/2026/03/ZwermbadDePeppelAquasporten-13-Swimfit-scaled.avif
ORGANIZER;CN="Sportservice De Vallei":MAILTO:info@sportservicedevallei.nl
END:VEVENT
BEGIN:VEVENT
DTSTART;TZID=Europe/Amsterdam:20260709T193000
DTEND;TZID=Europe/Amsterdam:20260709T203000
DTSTAMP:20260422T102557
CREATED:20250826T132256Z
LAST-MODIFIED:20260309T131139Z
UID:10001638-1783625400-1783629000@sportservicedevallei.nl
SUMMARY:Banenzwemmen avond
DESCRIPTION:Zin in een sportief einde van je dag of juist een moment voor jezelf? Bij zwembad De Peppel kun je bijna elke dag banen trekken in het wedstrijdbad (behalve op zaterdag). Of je nu rustig je rondjes zwemt of traint op snelheid en techniek — jij bepaalt het tempo. \nSoms wordt een deel van het bad gebruikt voor andere activiteiten.
URL:https://sportservicedevallei.nl/evenement/banenzwemmen-avond-2/2026-07-09/
LOCATION:Zwembad De Peppel\, Peppelensteeg 17\, Ede\, 6715 CV\, Nederland
CATEGORIES:Banenzwemmen,Gemeente Ede,Jongeren,Senioren,Volwassenen,Zwemmen
ATTACH;FMTTYPE=image/jpeg:https://sportservicedevallei.nl/wp-content/uploads/2026/03/ZwermbadDePeppelAquasporten-13-Swimfit-scaled.avif
ORGANIZER;CN="Sportservice De Vallei":MAILTO:info@sportservicedevallei.nl
END:VEVENT
BEGIN:VEVENT
DTSTART;TZID=Europe/Amsterdam:20260715T200000
DTEND;TZID=Europe/Amsterdam:20260715T210000
DTSTAMP:20260422T102557
CREATED:20260203T070053Z
LAST-MODIFIED:20260309T131059Z
UID:10001598-1784145600-1784149200@sportservicedevallei.nl
SUMMARY:Banenzwemmen avond
DESCRIPTION:Zin in een sportief einde van je dag of juist een moment voor jezelf? Bij zwembad De Peppel kun je bijna elke dag banen trekken in het wedstrijdbad (behalve op zaterdag). Of je nu rustig je rondjes zwemt of traint op snelheid en techniek — jij bepaalt het tempo. \nSoms wordt een deel van het bad gebruikt voor andere activiteiten.
URL:https://sportservicedevallei.nl/evenement/banenzwemmen-avond/2026-07-15/
LOCATION:Zwembad De Peppel\, Peppelensteeg 17\, Ede\, 6715 CV\, Nederland
CATEGORIES:Banenzwemmen,Gemeente Ede,Jongeren,Senioren,Volwassenen,Zwemmen
ATTACH;FMTTYPE=image/jpeg:https://sportservicedevallei.nl/wp-content/uploads/2026/03/ZwermbadDePeppelAquasporten-13-Swimfit-scaled.avif
ORGANIZER;CN="Sportservice De Vallei":MAILTO:info@sportservicedevallei.nl
END:VEVENT
BEGIN:VEVENT
DTSTART;TZID=Europe/Amsterdam:20260716T193000
DTEND;TZID=Europe/Amsterdam:20260716T203000
DTSTAMP:20260422T102557
CREATED:20250826T132256Z
LAST-MODIFIED:20260309T131139Z
UID:10001639-1784230200-1784233800@sportservicedevallei.nl
SUMMARY:Banenzwemmen avond
DESCRIPTION:Zin in een sportief einde van je dag of juist een moment voor jezelf? Bij zwembad De Peppel kun je bijna elke dag banen trekken in het wedstrijdbad (behalve op zaterdag). Of je nu rustig je rondjes zwemt of traint op snelheid en techniek — jij bepaalt het tempo. \nSoms wordt een deel van het bad gebruikt voor andere activiteiten.
URL:https://sportservicedevallei.nl/evenement/banenzwemmen-avond-2/2026-07-16/
LOCATION:Zwembad De Peppel\, Peppelensteeg 17\, Ede\, 6715 CV\, Nederland
CATEGORIES:Banenzwemmen,Gemeente Ede,Jongeren,Senioren,Volwassenen,Zwemmen
ATTACH;FMTTYPE=image/jpeg:https://sportservicedevallei.nl/wp-content/uploads/2026/03/ZwermbadDePeppelAquasporten-13-Swimfit-scaled.avif
ORGANIZER;CN="Sportservice De Vallei":MAILTO:info@sportservicedevallei.nl
END:VEVENT
END:VCALENDAR