BEGIN:VCALENDAR
VERSION:2.0
PRODID:-//Sportservice De Vallei - ECPv6.15.17.1//NONSGML v1.0//EN
CALSCALE:GREGORIAN
METHOD:PUBLISH
X-WR-CALNAME:Sportservice De Vallei
X-ORIGINAL-URL:https://sportservicedevallei.nl
X-WR-CALDESC:Evenementen voor Sportservice De Vallei
REFRESH-INTERVAL;VALUE=DURATION:PT1H
X-Robots-Tag:noindex
X-PUBLISHED-TTL:PT1H
BEGIN:VTIMEZONE
TZID:Europe/Amsterdam
BEGIN:DAYLIGHT
TZOFFSETFROM:+0100
TZOFFSETTO:+0200
TZNAME:CEST
DTSTART:20250330T010000
END:DAYLIGHT
BEGIN:STANDARD
TZOFFSETFROM:+0200
TZOFFSETTO:+0100
TZNAME:CET
DTSTART:20251026T010000
END:STANDARD
BEGIN:DAYLIGHT
TZOFFSETFROM:+0100
TZOFFSETTO:+0200
TZNAME:CEST
DTSTART:20260329T010000
END:DAYLIGHT
BEGIN:STANDARD
TZOFFSETFROM:+0200
TZOFFSETTO:+0100
TZNAME:CET
DTSTART:20261025T010000
END:STANDARD
BEGIN:DAYLIGHT
TZOFFSETFROM:+0100
TZOFFSETTO:+0200
TZNAME:CEST
DTSTART:20270328T010000
END:DAYLIGHT
BEGIN:STANDARD
TZOFFSETFROM:+0200
TZOFFSETTO:+0100
TZNAME:CET
DTSTART:20271031T010000
END:STANDARD
END:VTIMEZONE
BEGIN:VEVENT
DTSTART;TZID=Europe/Amsterdam:20260423T091500
DTEND;TZID=Europe/Amsterdam:20260423T141500
DTSTAMP:20260420T051012
CREATED:20260302T094405Z
LAST-MODIFIED:20260302T113701Z
UID:10004297-1776935700-1776953700@sportservicedevallei.nl
SUMMARY:SAM Swim2Play
DESCRIPTION:SAM Swim2Play voor het basisonderwijs in zwembad De Peppel is leuker\, effectiever en praktischer dan traditioneel schoolzwemmen. Kinderen leren vaardigheden om veilig en met plezier mee te doen in en om het water. Alles draait om doen en ontdekken. \nSAM Swim2Play is het meest effectief in een reeks van 5 weken. We kijken samen naar de beste planning en maatwerk voor jouw school. Mogelijk is er gemeentelijke subsidie beschikbaar. \nSAM Swim2Play is op donderdag van 9.00 tot 13.00 uur in het recreatiebad en van 13.00 tot 14.15 uur in beide baden. \nMeer informatie:\nswim2play@sportservicedevallei.nl | 0318 – 47 97 35
URL:https://sportservicedevallei.nl/evenement/sam-swim2play/2026-04-23/
LOCATION:Zwembad De Peppel\, Peppelensteeg 17\, Ede\, 6715 CV\, Nederland
CATEGORIES:Gemeente Ede,Onderwijs,SAM,Zwemmen
ATTACH;FMTTYPE=image/jpeg:https://sportservicedevallei.nl/wp-content/uploads/2025/08/sam-swim2play-scaled.avif
ORGANIZER;CN="Sportservice De Vallei":MAILTO:info@sportservicedevallei.nl
END:VEVENT
BEGIN:VEVENT
DTSTART;TZID=Europe/Amsterdam:20260507T091500
DTEND;TZID=Europe/Amsterdam:20260507T141500
DTSTAMP:20260420T051012
CREATED:20260302T094405Z
LAST-MODIFIED:20260302T113701Z
UID:10004298-1778145300-1778163300@sportservicedevallei.nl
SUMMARY:SAM Swim2Play
DESCRIPTION:SAM Swim2Play voor het basisonderwijs in zwembad De Peppel is leuker\, effectiever en praktischer dan traditioneel schoolzwemmen. Kinderen leren vaardigheden om veilig en met plezier mee te doen in en om het water. Alles draait om doen en ontdekken. \nSAM Swim2Play is het meest effectief in een reeks van 5 weken. We kijken samen naar de beste planning en maatwerk voor jouw school. Mogelijk is er gemeentelijke subsidie beschikbaar. \nSAM Swim2Play is op donderdag van 9.00 tot 13.00 uur in het recreatiebad en van 13.00 tot 14.15 uur in beide baden. \nMeer informatie:\nswim2play@sportservicedevallei.nl | 0318 – 47 97 35
URL:https://sportservicedevallei.nl/evenement/sam-swim2play/2026-05-07/
LOCATION:Zwembad De Peppel\, Peppelensteeg 17\, Ede\, 6715 CV\, Nederland
CATEGORIES:Gemeente Ede,Onderwijs,SAM,Zwemmen
ATTACH;FMTTYPE=image/jpeg:https://sportservicedevallei.nl/wp-content/uploads/2025/08/sam-swim2play-scaled.avif
ORGANIZER;CN="Sportservice De Vallei":MAILTO:info@sportservicedevallei.nl
END:VEVENT
BEGIN:VEVENT
DTSTART;TZID=Europe/Amsterdam:20260521T091500
DTEND;TZID=Europe/Amsterdam:20260521T141500
DTSTAMP:20260420T051012
CREATED:20260302T094405Z
LAST-MODIFIED:20260302T113701Z
UID:10004300-1779354900-1779372900@sportservicedevallei.nl
SUMMARY:SAM Swim2Play
DESCRIPTION:SAM Swim2Play voor het basisonderwijs in zwembad De Peppel is leuker\, effectiever en praktischer dan traditioneel schoolzwemmen. Kinderen leren vaardigheden om veilig en met plezier mee te doen in en om het water. Alles draait om doen en ontdekken. \nSAM Swim2Play is het meest effectief in een reeks van 5 weken. We kijken samen naar de beste planning en maatwerk voor jouw school. Mogelijk is er gemeentelijke subsidie beschikbaar. \nSAM Swim2Play is op donderdag van 9.00 tot 13.00 uur in het recreatiebad en van 13.00 tot 14.15 uur in beide baden. \nMeer informatie:\nswim2play@sportservicedevallei.nl | 0318 – 47 97 35
URL:https://sportservicedevallei.nl/evenement/sam-swim2play/2026-05-21/
LOCATION:Zwembad De Peppel\, Peppelensteeg 17\, Ede\, 6715 CV\, Nederland
CATEGORIES:Gemeente Ede,Onderwijs,SAM,Zwemmen
ATTACH;FMTTYPE=image/jpeg:https://sportservicedevallei.nl/wp-content/uploads/2025/08/sam-swim2play-scaled.avif
ORGANIZER;CN="Sportservice De Vallei":MAILTO:info@sportservicedevallei.nl
END:VEVENT
BEGIN:VEVENT
DTSTART;TZID=Europe/Amsterdam:20260528T091500
DTEND;TZID=Europe/Amsterdam:20260528T141500
DTSTAMP:20260420T051012
CREATED:20260302T094405Z
LAST-MODIFIED:20260302T113701Z
UID:10004301-1779959700-1779977700@sportservicedevallei.nl
SUMMARY:SAM Swim2Play
DESCRIPTION:SAM Swim2Play voor het basisonderwijs in zwembad De Peppel is leuker\, effectiever en praktischer dan traditioneel schoolzwemmen. Kinderen leren vaardigheden om veilig en met plezier mee te doen in en om het water. Alles draait om doen en ontdekken. \nSAM Swim2Play is het meest effectief in een reeks van 5 weken. We kijken samen naar de beste planning en maatwerk voor jouw school. Mogelijk is er gemeentelijke subsidie beschikbaar. \nSAM Swim2Play is op donderdag van 9.00 tot 13.00 uur in het recreatiebad en van 13.00 tot 14.15 uur in beide baden. \nMeer informatie:\nswim2play@sportservicedevallei.nl | 0318 – 47 97 35
URL:https://sportservicedevallei.nl/evenement/sam-swim2play/2026-05-28/
LOCATION:Zwembad De Peppel\, Peppelensteeg 17\, Ede\, 6715 CV\, Nederland
CATEGORIES:Gemeente Ede,Onderwijs,SAM,Zwemmen
ATTACH;FMTTYPE=image/jpeg:https://sportservicedevallei.nl/wp-content/uploads/2025/08/sam-swim2play-scaled.avif
ORGANIZER;CN="Sportservice De Vallei":MAILTO:info@sportservicedevallei.nl
END:VEVENT
BEGIN:VEVENT
DTSTART;TZID=Europe/Amsterdam:20260604T091500
DTEND;TZID=Europe/Amsterdam:20260604T141500
DTSTAMP:20260420T051012
CREATED:20260302T094405Z
LAST-MODIFIED:20260302T113701Z
UID:10004302-1780564500-1780582500@sportservicedevallei.nl
SUMMARY:SAM Swim2Play
DESCRIPTION:SAM Swim2Play voor het basisonderwijs in zwembad De Peppel is leuker\, effectiever en praktischer dan traditioneel schoolzwemmen. Kinderen leren vaardigheden om veilig en met plezier mee te doen in en om het water. Alles draait om doen en ontdekken. \nSAM Swim2Play is het meest effectief in een reeks van 5 weken. We kijken samen naar de beste planning en maatwerk voor jouw school. Mogelijk is er gemeentelijke subsidie beschikbaar. \nSAM Swim2Play is op donderdag van 9.00 tot 13.00 uur in het recreatiebad en van 13.00 tot 14.15 uur in beide baden. \nMeer informatie:\nswim2play@sportservicedevallei.nl | 0318 – 47 97 35
URL:https://sportservicedevallei.nl/evenement/sam-swim2play/2026-06-04/
LOCATION:Zwembad De Peppel\, Peppelensteeg 17\, Ede\, 6715 CV\, Nederland
CATEGORIES:Gemeente Ede,Onderwijs,SAM,Zwemmen
ATTACH;FMTTYPE=image/jpeg:https://sportservicedevallei.nl/wp-content/uploads/2025/08/sam-swim2play-scaled.avif
ORGANIZER;CN="Sportservice De Vallei":MAILTO:info@sportservicedevallei.nl
END:VEVENT
BEGIN:VEVENT
DTSTART;TZID=Europe/Amsterdam:20260611T091500
DTEND;TZID=Europe/Amsterdam:20260611T141500
DTSTAMP:20260420T051012
CREATED:20260302T094405Z
LAST-MODIFIED:20260302T113701Z
UID:10004303-1781169300-1781187300@sportservicedevallei.nl
SUMMARY:SAM Swim2Play
DESCRIPTION:SAM Swim2Play voor het basisonderwijs in zwembad De Peppel is leuker\, effectiever en praktischer dan traditioneel schoolzwemmen. Kinderen leren vaardigheden om veilig en met plezier mee te doen in en om het water. Alles draait om doen en ontdekken. \nSAM Swim2Play is het meest effectief in een reeks van 5 weken. We kijken samen naar de beste planning en maatwerk voor jouw school. Mogelijk is er gemeentelijke subsidie beschikbaar. \nSAM Swim2Play is op donderdag van 9.00 tot 13.00 uur in het recreatiebad en van 13.00 tot 14.15 uur in beide baden. \nMeer informatie:\nswim2play@sportservicedevallei.nl | 0318 – 47 97 35
URL:https://sportservicedevallei.nl/evenement/sam-swim2play/2026-06-11/
LOCATION:Zwembad De Peppel\, Peppelensteeg 17\, Ede\, 6715 CV\, Nederland
CATEGORIES:Gemeente Ede,Onderwijs,SAM,Zwemmen
ATTACH;FMTTYPE=image/jpeg:https://sportservicedevallei.nl/wp-content/uploads/2025/08/sam-swim2play-scaled.avif
ORGANIZER;CN="Sportservice De Vallei":MAILTO:info@sportservicedevallei.nl
END:VEVENT
BEGIN:VEVENT
DTSTART;TZID=Europe/Amsterdam:20260618T091500
DTEND;TZID=Europe/Amsterdam:20260618T141500
DTSTAMP:20260420T051012
CREATED:20260302T094405Z
LAST-MODIFIED:20260302T113701Z
UID:10004304-1781774100-1781792100@sportservicedevallei.nl
SUMMARY:SAM Swim2Play
DESCRIPTION:SAM Swim2Play voor het basisonderwijs in zwembad De Peppel is leuker\, effectiever en praktischer dan traditioneel schoolzwemmen. Kinderen leren vaardigheden om veilig en met plezier mee te doen in en om het water. Alles draait om doen en ontdekken. \nSAM Swim2Play is het meest effectief in een reeks van 5 weken. We kijken samen naar de beste planning en maatwerk voor jouw school. Mogelijk is er gemeentelijke subsidie beschikbaar. \nSAM Swim2Play is op donderdag van 9.00 tot 13.00 uur in het recreatiebad en van 13.00 tot 14.15 uur in beide baden. \nMeer informatie:\nswim2play@sportservicedevallei.nl | 0318 – 47 97 35
URL:https://sportservicedevallei.nl/evenement/sam-swim2play/2026-06-18/
LOCATION:Zwembad De Peppel\, Peppelensteeg 17\, Ede\, 6715 CV\, Nederland
CATEGORIES:Gemeente Ede,Onderwijs,SAM,Zwemmen
ATTACH;FMTTYPE=image/jpeg:https://sportservicedevallei.nl/wp-content/uploads/2025/08/sam-swim2play-scaled.avif
ORGANIZER;CN="Sportservice De Vallei":MAILTO:info@sportservicedevallei.nl
END:VEVENT
BEGIN:VEVENT
DTSTART;TZID=Europe/Amsterdam:20260625T091500
DTEND;TZID=Europe/Amsterdam:20260625T141500
DTSTAMP:20260420T051012
CREATED:20260302T094405Z
LAST-MODIFIED:20260302T113701Z
UID:10004305-1782378900-1782396900@sportservicedevallei.nl
SUMMARY:SAM Swim2Play
DESCRIPTION:SAM Swim2Play voor het basisonderwijs in zwembad De Peppel is leuker\, effectiever en praktischer dan traditioneel schoolzwemmen. Kinderen leren vaardigheden om veilig en met plezier mee te doen in en om het water. Alles draait om doen en ontdekken. \nSAM Swim2Play is het meest effectief in een reeks van 5 weken. We kijken samen naar de beste planning en maatwerk voor jouw school. Mogelijk is er gemeentelijke subsidie beschikbaar. \nSAM Swim2Play is op donderdag van 9.00 tot 13.00 uur in het recreatiebad en van 13.00 tot 14.15 uur in beide baden. \nMeer informatie:\nswim2play@sportservicedevallei.nl | 0318 – 47 97 35
URL:https://sportservicedevallei.nl/evenement/sam-swim2play/2026-06-25/
LOCATION:Zwembad De Peppel\, Peppelensteeg 17\, Ede\, 6715 CV\, Nederland
CATEGORIES:Gemeente Ede,Onderwijs,SAM,Zwemmen
ATTACH;FMTTYPE=image/jpeg:https://sportservicedevallei.nl/wp-content/uploads/2025/08/sam-swim2play-scaled.avif
ORGANIZER;CN="Sportservice De Vallei":MAILTO:info@sportservicedevallei.nl
END:VEVENT
BEGIN:VEVENT
DTSTART;TZID=Europe/Amsterdam:20260702T091500
DTEND;TZID=Europe/Amsterdam:20260702T141500
DTSTAMP:20260420T051012
CREATED:20260302T094405Z
LAST-MODIFIED:20260302T113701Z
UID:10004306-1782983700-1783001700@sportservicedevallei.nl
SUMMARY:SAM Swim2Play
DESCRIPTION:SAM Swim2Play voor het basisonderwijs in zwembad De Peppel is leuker\, effectiever en praktischer dan traditioneel schoolzwemmen. Kinderen leren vaardigheden om veilig en met plezier mee te doen in en om het water. Alles draait om doen en ontdekken. \nSAM Swim2Play is het meest effectief in een reeks van 5 weken. We kijken samen naar de beste planning en maatwerk voor jouw school. Mogelijk is er gemeentelijke subsidie beschikbaar. \nSAM Swim2Play is op donderdag van 9.00 tot 13.00 uur in het recreatiebad en van 13.00 tot 14.15 uur in beide baden. \nMeer informatie:\nswim2play@sportservicedevallei.nl | 0318 – 47 97 35
URL:https://sportservicedevallei.nl/evenement/sam-swim2play/2026-07-02/
LOCATION:Zwembad De Peppel\, Peppelensteeg 17\, Ede\, 6715 CV\, Nederland
CATEGORIES:Gemeente Ede,Onderwijs,SAM,Zwemmen
ATTACH;FMTTYPE=image/jpeg:https://sportservicedevallei.nl/wp-content/uploads/2025/08/sam-swim2play-scaled.avif
ORGANIZER;CN="Sportservice De Vallei":MAILTO:info@sportservicedevallei.nl
END:VEVENT
BEGIN:VEVENT
DTSTART;TZID=Europe/Amsterdam:20260709T091500
DTEND;TZID=Europe/Amsterdam:20260709T141500
DTSTAMP:20260420T051012
CREATED:20260302T094405Z
LAST-MODIFIED:20260302T113701Z
UID:10004307-1783588500-1783606500@sportservicedevallei.nl
SUMMARY:SAM Swim2Play
DESCRIPTION:SAM Swim2Play voor het basisonderwijs in zwembad De Peppel is leuker\, effectiever en praktischer dan traditioneel schoolzwemmen. Kinderen leren vaardigheden om veilig en met plezier mee te doen in en om het water. Alles draait om doen en ontdekken. \nSAM Swim2Play is het meest effectief in een reeks van 5 weken. We kijken samen naar de beste planning en maatwerk voor jouw school. Mogelijk is er gemeentelijke subsidie beschikbaar. \nSAM Swim2Play is op donderdag van 9.00 tot 13.00 uur in het recreatiebad en van 13.00 tot 14.15 uur in beide baden. \nMeer informatie:\nswim2play@sportservicedevallei.nl | 0318 – 47 97 35
URL:https://sportservicedevallei.nl/evenement/sam-swim2play/2026-07-09/
LOCATION:Zwembad De Peppel\, Peppelensteeg 17\, Ede\, 6715 CV\, Nederland
CATEGORIES:Gemeente Ede,Onderwijs,SAM,Zwemmen
ATTACH;FMTTYPE=image/jpeg:https://sportservicedevallei.nl/wp-content/uploads/2025/08/sam-swim2play-scaled.avif
ORGANIZER;CN="Sportservice De Vallei":MAILTO:info@sportservicedevallei.nl
END:VEVENT
BEGIN:VEVENT
DTSTART;TZID=Europe/Amsterdam:20260716T091500
DTEND;TZID=Europe/Amsterdam:20260716T141500
DTSTAMP:20260420T051012
CREATED:20260302T094405Z
LAST-MODIFIED:20260302T113701Z
UID:10004308-1784193300-1784211300@sportservicedevallei.nl
SUMMARY:SAM Swim2Play
DESCRIPTION:SAM Swim2Play voor het basisonderwijs in zwembad De Peppel is leuker\, effectiever en praktischer dan traditioneel schoolzwemmen. Kinderen leren vaardigheden om veilig en met plezier mee te doen in en om het water. Alles draait om doen en ontdekken. \nSAM Swim2Play is het meest effectief in een reeks van 5 weken. We kijken samen naar de beste planning en maatwerk voor jouw school. Mogelijk is er gemeentelijke subsidie beschikbaar. \nSAM Swim2Play is op donderdag van 9.00 tot 13.00 uur in het recreatiebad en van 13.00 tot 14.15 uur in beide baden. \nMeer informatie:\nswim2play@sportservicedevallei.nl | 0318 – 47 97 35
URL:https://sportservicedevallei.nl/evenement/sam-swim2play/2026-07-16/
LOCATION:Zwembad De Peppel\, Peppelensteeg 17\, Ede\, 6715 CV\, Nederland
CATEGORIES:Gemeente Ede,Onderwijs,SAM,Zwemmen
ATTACH;FMTTYPE=image/jpeg:https://sportservicedevallei.nl/wp-content/uploads/2025/08/sam-swim2play-scaled.avif
ORGANIZER;CN="Sportservice De Vallei":MAILTO:info@sportservicedevallei.nl
END:VEVENT
END:VCALENDAR